BEGIN:VCALENDAR
VERSION:2.0
PRODID:-//ChamberMaster//Event Calendar 2.0//EN
METHOD:PUBLISH
X-PUBLISHED-TTL:P3D
REFRESH-INTERVAL:P3D
CALSCALE:GREGORIAN
BEGIN:VEVENT
DTSTART:20110407T220000Z
DTEND:20110408T020000Z
X-MICROSOFT-CDO-ALLDAYEVENT:FALSE
SUMMARY:Airpark Tradeshow 2011
DESCRIPTION:Get down to business with the Scottsdale Airpark Tradeshow---Where Your Business Takes Flight!  \n\nMore Than 50 Exhibitors.  More Than 800 Attendees.\n\nGenerate leads.  Build relationships.
X-ALT-DESC;FMTTYPE=text/html:Get down to business with the Scottsdale Airpark Tradeshow---Where Your Business Takes Flight!  \n\nMore Than 50 Exhibitors.  More Than 800 Attendees.\n\nGenerate leads.  Build relationships.
LOCATION:Monterra at Westworld
UID:e.1953.1267
SEQUENCE:3
DTSTAMP:20260421T122611Z
URL:https://business.scottsdalechamber.com/events/details/airpark-tradeshow-2011-04-07-2011-1267
END:VEVENT

END:VCALENDAR
