BEGIN:VCALENDAR
VERSION:2.0
PRODID:-//ChamberMaster//Event Calendar 2.0//EN
METHOD:PUBLISH
X-PUBLISHED-TTL:P3D
REFRESH-INTERVAL:P3D
CALSCALE:GREGORIAN
BEGIN:VEVENT
DTSTART:20180719T141500Z
DTEND:20180719T160000Z
X-MICROSOFT-CDO-ALLDAYEVENT:FALSE
SUMMARY:AM Connect at Jason's Deli
DESCRIPTION:AM Connect is networking at its best! Held on the 3rd Thursday of each month from 7:00-9:00 a.m. at great locations throughout Scottsdale. This very popular breakfast gathering is comprised of business professionals dedicated to promoting each other's businesses with a strong commitment to mutual success. \n \n\n\n	\n		\n			Increase Your Visibility Through Sponsorship!\n\n			Looking to get in front of small businesses\, independent professionals and sales/marketing managers? This is your opportunity! The Chamber's A.M. Connect Breakfasts offer a variety of networking formats and lots of great exposure opportunities. We can tailor an exposure package that fits both your needs and your budget! \n\n			Contact Cheri Valentino at cvalentino@scottsdalechamber.com or call 480.355.2708.
X-ALT-DESC;FMTTYPE=text/html:<div style="text-align: center\;"><span style="font-size:12px\;"><span style="color: rgb(0\, 0\, 128)\; text-align: center\;">AM Connect is networking at its best! Held on the&nbsp\;</span>3rd<span style="color: rgb(0\, 0\, 128)\; text-align: center\;">&nbsp\;Thursday of each month from 7:00-9:00 a.m.&nbsp\;at great locations throughout Scottsdale.&nbsp\;This very popular breakfast gathering is comprised of business professionals dedicated to promoting each other&#39\;s businesses with a strong commitment to mutual success.&nbsp\;</span></span></div>\n&nbsp\;\n\n<table border="1" cellpadding="0" cellspacing="0" style="background: black\; border: 1.5pt outset rgb(205\, 189\, 45)\; border-image: none\; width: 600px\;" width="600">\n	<tbody>\n		<tr style="height: 90px\;">\n			<td style="background: rgb(255\, 250\, 227)\; padding: 3.75pt\; border: 1pt inset rgb(205\, 189\, 45)\; border-image: none\; width: 600px\; height: 90px\; vertical-align: top\;"><span style="font-family: arial\;"><strong><span style="font-size: 12pt\;">Increase Your Visibility Through Sponsorship!</span></strong><br />\n			<span style="font-size: 12pt\;">Looking to get in front of small businesses\, independent professionals and sales/marketing managers? This is your opportunity! The Chamber&#39\;s A.M. Connect Breakfasts offer a variety of networking formats and lots of great exposure <a href="https://chambermaster.blob.core.windows.net/userfiles/UserFiles/chambers/1953/File/AMConnect081616-Teale.pdf" target="_blank">opportunities</a>. We can tailor an exposure package that fits both your needs and your budget! </span><br />\n			<span style="font-size: 12pt\;">Contact Cheri Valentino&nbsp\;at <a href="mailto:kmccoy@scottsdalechamber.com?subject=PM%20Connect"><span style="color: black\;">cvalentino@scottsdalechamber.com</span></a> or call 480.355.2708.</span></span></td>\n		</tr>\n	</tbody>\n</table>\n
LOCATION:Build Relationships. Generate Leads. Create Buzz. 10605 N Scottsdale Rd #101\, Scottsdale\, AZ 85254 AM Connect is networking at its best! Held on the 3rd Thursday of each month from 7:00-9:00 a.m. at great locations throughout Scottsdale. This very popular breakfast gathering is comprised of business professionals dedicated to promoting each other's businesses with a strong commitment to mutual success. Come hungry and ready to promote your business! Don't forget to bring business cards and sales materials for the Member Resource Table! **Registration will close at 3pm the day before the event. Format:TBD
UID:e.1953.10742
SEQUENCE:3
DTSTAMP:20260426T041348Z
URL:https://business.scottsdalechamber.com/events/details/am-connect-at-jason-s-deli-10742
END:VEVENT

END:VCALENDAR
