BEGIN:VCALENDAR
VERSION:2.0
PRODID:-//ChamberMaster//Event Calendar 2.0//EN
METHOD:PUBLISH
X-PUBLISHED-TTL:P3D
REFRESH-INTERVAL:P3D
CALSCALE:GREGORIAN
BEGIN:VEVENT
DTSTART:20150729T143000Z
DTEND:20150729T153000Z
X-MICROSOFT-CDO-ALLDAYEVENT:FALSE
SUMMARY:Be Scottsdale Fit
DESCRIPTION:Join our Fit & Fun Committee for the Chamber Foundation initiative to help make Scottsdale businesses and employees more FIT & FUN!  We are inviting you to be a captain and help launch this initiative and help plan outings\, events\, and connections to enjoy festivals\, sports\, fitness\, events and more.  We will be coordinating Be Fit workshops\, and activities to connect people who have a desire to have fun and recreate.\n\nCome to this workshop and discover how to integrate your fitness\, recreation\, wellness and community service desires into your weekly schedule.  This session will invite you to "Be Scottsdale Fit" with Fun\, Interests and connecting through our new Technology initiative\, www.JustGoScottsdaleChamber.com!
X-ALT-DESC;FMTTYPE=text/html:<p>Join our Fit &amp\; Fun Committee for the Chamber Foundation initiative to help make Scottsdale businesses and employees more FIT &amp\; FUN!&nbsp\; We are inviting you to be a captain and help launch this initiative and help plan outings\, events\, and connections to enjoy festivals\, sports\, fitness\, events and more.&nbsp\; We will be coordinating Be Fit workshops\, and activities to connect people who have a desire to have fun and recreate.</p>\n\n<p>Come to this workshop and discover how to integrate your fitness\, recreation\, wellness and community service desires into your weekly schedule.&nbsp\; This session will invite you to &ldquo\;Be Scottsdale Fit&rdquo\; with Fun\, Interests and connecting through our new Technology initiative\, <a href="http://www.JustGoScottsdaleChamber.com">www.JustGoScottsdaleChamber.com</a>!</p>\n\n<p>&nbsp\;</p>\n
LOCATION:Scottsdale Area Chamber of Commerce Boardroom 7501 E. McCormick Pkwy #202N Scottsdale\, Arizona 85258
UID:e.1953.6554
SEQUENCE:3
DTSTAMP:20260425T001438Z
URL:https://business.scottsdalechamber.com/events/details/be-scottsdale-fit-07-29-2015-6554
END:VEVENT

END:VCALENDAR
