BEGIN:VCALENDAR
VERSION:2.0
PRODID:-//ChamberMaster//Event Calendar 2.0//EN
METHOD:PUBLISH
X-PUBLISHED-TTL:P3D
REFRESH-INTERVAL:P3D
CALSCALE:GREGORIAN
BEGIN:VEVENT
DTSTART:20110811T070000Z
DTEND:20110811T070000Z
X-MICROSOFT-CDO-ALLDAYEVENT:FALSE
SUMMARY:Committee Chairs Meeting
DESCRIPTION:Committee Chairs Meeting
X-ALT-DESC;FMTTYPE=text/html:Committee Chairs Meeting
LOCATION:Scottsdale Area Chamber
UID:e.1953.1775
SEQUENCE:3
DTSTAMP:20260421T050237Z
URL:https://business.scottsdalechamber.com/events/details/committee-chairs-meeting-08-11-2011-1775
END:VEVENT

END:VCALENDAR
