BEGIN:VCALENDAR
VERSION:2.0
PRODID:-//ChamberMaster//Event Calendar 2.0//EN
METHOD:PUBLISH
X-PUBLISHED-TTL:P3D
REFRESH-INTERVAL:P3D
CALSCALE:GREGORIAN
BEGIN:VEVENT
DTSTART:20160419T003000Z
DTEND:20160419T020000Z
X-MICROSOFT-CDO-ALLDAYEVENT:FALSE
SUMMARY:Connect the Tech Speaker Series
DESCRIPTION:Facilitated by Scottsdale Economic Development and Stealthmode Partners is an eight-week interactive series provides an opportunity for direct mentorship from local industry leaders and Q&A on area every business needs to know\, like legal issues\, human resources and hiring\, effective new tools for marketing and how to increase sales. This is a special series for firms in Scottsdale that are eyeing expansion\, presented by people who have been there. For more information about the series and free registration\, click here!
X-ALT-DESC;FMTTYPE=text/html:Facilitated by Scottsdale Economic Development and Stealthmode Partners is an eight-week interactive series provides an opportunity for direct mentorship from local industry leaders and Q&amp\;A on area every business needs to know\, like legal issues\, human resources and hiring\, effective new tools for marketing and how to increase sales. This is a special series for firms in Scottsdale that are eyeing expansion\, presented by people who have been there. For more information about the series and free registration\, <a href="http://www.choosescottsdale.com/news/Connect_the_Tech_Speaker_Series_s1_p23602" target="_blank">click here</a>!&nbsp\;
LOCATION:Eureka Loft Scottsdale Civic Center Library 3839 N. Drinkwater Blvd.\, 2nd Floor Scottsdale\, AZ 85251
UID:e.1953.7205
SEQUENCE:3
DTSTAMP:20260425T155821Z
URL:https://business.scottsdalechamber.com/events/details/connect-the-tech-speaker-series-04-18-2016-7205
END:VEVENT

END:VCALENDAR
