BEGIN:VCALENDAR
VERSION:2.0
PRODID:-//ChamberMaster//Event Calendar 2.0//EN
METHOD:PUBLISH
X-PUBLISHED-TTL:P3D
REFRESH-INTERVAL:P3D
CALSCALE:GREGORIAN
BEGIN:VEVENT
DTSTART:20091029T070000Z
DTEND:20091029T070000Z
X-MICROSOFT-CDO-ALLDAYEVENT:FALSE
SUMMARY:Dialogue Series Luncheon October
DESCRIPTION:Dialogue Series Luncheon October
X-ALT-DESC;FMTTYPE=text/html:Dialogue Series Luncheon October
LOCATION:Chamber Boardroom
UID:e.1953.2410
SEQUENCE:3
DTSTAMP:20260422T181716Z
URL:https://business.scottsdalechamber.com/events/details/dialogue-series-luncheon-october-10-29-2009-2410
END:VEVENT

END:VCALENDAR
