BEGIN:VCALENDAR
VERSION:2.0
PRODID:-//ChamberMaster//Event Calendar 2.0//EN
METHOD:PUBLISH
X-PUBLISHED-TTL:P3D
REFRESH-INTERVAL:P3D
CALSCALE:GREGORIAN
BEGIN:VEVENT
DTSTART:20090924T070000Z
DTEND:20090924T070000Z
X-MICROSOFT-CDO-ALLDAYEVENT:FALSE
SUMMARY:Dialogue Series Luncheon September
DESCRIPTION:Dialogue Series Luncheon September
X-ALT-DESC;FMTTYPE=text/html:Dialogue Series Luncheon September
LOCATION:Mayo
UID:e.1953.2405
SEQUENCE:3
DTSTAMP:20260422T201346Z
URL:https://business.scottsdalechamber.com/events/details/dialogue-series-luncheon-september-09-24-2009-2405
END:VEVENT

END:VCALENDAR
