BEGIN:VCALENDAR
VERSION:2.0
PRODID:-//ChamberMaster//Event Calendar 2.0//EN
METHOD:PUBLISH
X-PUBLISHED-TTL:P3D
REFRESH-INTERVAL:P3D
CALSCALE:GREGORIAN
BEGIN:VEVENT
DTSTART:20090904T141500Z
DTEND:20090904T160000Z
X-MICROSOFT-CDO-ALLDAYEVENT:FALSE
SUMMARY:First Friday Airpark Breakfast
DESCRIPTION:Get a Sneak Peek at theAirpark Community Area PlanJoin the Scottsdale Area Chamber for an exclusive presentation of the draft Airpark Community Area Plan. This plan serves as the guiding document for how the Airpark grows and develops. At the event\, businesses will have the opportunity to see the entire plan\, hear about the priorities and provide direct feedback to city planners. The presentation will be delivered by representatives from the City of Scottsdale Planning and Economic Development Departments. DATE: Friday\, September 4\, 2009TIME: Registration\, Breakfast & Networking 7:15-7:45amProgram 7:45-9:00amLOCATION: Scottsdale Airport (Butherus Dr. E. of Scottsdale Road)COST: Chamber Members $15 ($20 Day of Event)\;Non-Members $25 ($30 Day of Event) Register atwww.scottsdalechamber.com/calendaror by calling (480) 949-6282 For sponsorship information\, contact Kristi Hall\, 480-949-6288 orkhall@scottsdalechamber.com Event Sponsored By:Factors SouthwestFactors Southwest is a locally owned and operated factoring company specializing in the financing needs of today’s small businesses. We understand what it takes to grow and build a business\, so we offer financing solutions – not obstacles.Factors Southwest offers unparalleled customer service to each and every client. It doesn’t matter if you are big or small\; every client receives our full attention.
X-ALT-DESC;FMTTYPE=text/html:<B><FONT color=#00c8c8 size=7><FONT color=#00c8c8 size=7><FONT color=#00c8c8 size=7><P align=center><FONT face=Arial color=#0000ff size=6>Get a Sneak Peek at the</FONT></P><P align=center><FONT color=#0000ff><FONT size=6><FONT face=Arial>Airpark </FONT><FONT face=Arial>Community Area Plan</FONT></FONT></FONT></P></B></FONT></FONT></FONT><FONT size=2><FONT size=2><P align=center><FONT face=Arial size=3>Join the Scottsdale Area Chamber for an exclusive presentation of the draft Airpark </FONT><FONT face=Arial size=3>Community Area Plan. This plan serves as the guiding document for how the </FONT><FONT face=Arial size=3>Airpark grows and develops. At the event\, businesses will have the opportunity </FONT><FONT face=Arial size=3>to see the entire plan\, hear about the priorities and provide direct feedback to </FONT><FONT face=Arial size=3>city planners. The presentation will be delivered by representatives&nbsp\;</FONT><FONT size=3><FONT face=Arial>from the City </FONT><FONT face=Arial>of Scottsdale Planning and Economic Development Departments.</FONT></FONT><FONT size=2><FONT size=2></P></FONT></FONT><P align=center><FONT face=Arial></FONT>&nbsp\;</P><FONT size=1><FONT size=1><P align=center><FONT face=Arial size=4><STRONG><FONT color=#0000ff>DATE:</FONT></STRONG> Friday\, September 4\, 2009</FONT></P><P align=center><FONT face=Arial size=4><STRONG><FONT color=#0000ff>TIME:</FONT></STRONG> </FONT></FONT></FONT><FONT face=Arial size=4>Registration\, Breakfast </FONT><FONT face=Arial size=4>&amp\; Networking 7:15-7:45am</FONT></P><P align=center><FONT face=Arial size=4>Program 7:45-9:00am</FONT></P><B><P align=center><FONT face=Arial size=4><FONT color=#0000ff>LOCATION:</FONT> </FONT></B><FONT face=Arial size=4>Scottsdale Airport </FONT><FONT face=Arial size=4>(Butherus Dr. E. of Scottsdale Road)</FONT></P><B><P align=center><FONT face=Arial size=4><FONT color=#0000ff>COST:</FONT> </FONT></B><FONT face=Arial size=4>Chamber </FONT><FONT face=Arial size=4>Members $15 ($20 Day of Event)\;</FONT></P><P align=center><FONT face=Arial size=4>Non-Members $25 ($30 Day of Event)</FONT></P><P align=center><FONT face=Arial size=4></FONT>&nbsp\;</P></FONT></FONT><FONT color=#d23800 size=2><FONT color=#d23800 size=2><FONT face=Arial color=#000000 size=3><P align=center><STRONG>Register at</STRONG></P></FONT></FONT></FONT><FONT color=#d23800><FONT color=#d23800><FONT face=Arial color=#d23800><P align=center><STRONG>www.scottsdalechamber.com/calendar</STRONG></P></FONT></FONT></FONT><P align=center><FONT face=Arial><STRONG>or by calling (480) 949-6282</STRONG></FONT></P><P align=center><FONT face=Arial></FONT>&nbsp\;</P><P align=center><STRONG><FONT face=Arial>For sponsorship information\, </FONT><FONT face=Arial>contact Kristi Hall\, 480-949-6288 or</FONT></STRONG></P><P align=center><FONT face=Arial><A href="mailto:khall@scottsdalechamber.com"><STRONG>khall@scottsdalechamber.com</STRONG></A></FONT></P><P align=center><FONT face=Arial></FONT>&nbsp\;</P><FONT size=1><FONT size=1><P align=center><FONT face=Arial size=3><STRONG><EM>Event Sponsored By:</EM></STRONG></FONT></P><P align=center><FONT face=Arial color=#008000 size=5><STRONG><EM><U><A dataFld=0:0 href="http://www.factors-southwest.com/">Factors Southwest</A></U></EM></STRONG></FONT></P><P align=center><FONT face=Arial size=3>Factors Southwest is a locally owned and operated factoring company specializing in the financing needs of today’s small businesses. We understand what it takes to grow and build a business\, so we offer financing solutions – not obstacles.</FONT></P><P class="white-text small-text" style="PADDING-RIGHT: 18px\; PADDING-LEFT: 18px\; PADDING-BOTTOM: 0px\; PADDING-TOP: 0px" align=center><FONT face=Arial size=3>Factors Southwest offers unparalleled customer service to each and every client. It doesn’t matter if you are big or small\; every client receives our full attention.</FONT></P></FONT></FONT>
LOCATION:City of Scottsdale-Aviation Department
UID:e.1953.1095
SEQUENCE:3
DTSTAMP:20260422T201155Z
URL:https://business.scottsdalechamber.com/events/details/first-friday-airpark-breakfast-09-04-2009-1095
END:VEVENT

END:VCALENDAR
