BEGIN:VCALENDAR
VERSION:2.0
PRODID:-//ChamberMaster//Event Calendar 2.0//EN
METHOD:PUBLISH
X-PUBLISHED-TTL:P3D
REFRESH-INTERVAL:P3D
CALSCALE:GREGORIAN
BEGIN:VEVENT
DTSTART:20101112T143000Z
DTEND:20101112T160000Z
X-MICROSOFT-CDO-ALLDAYEVENT:FALSE
SUMMARY:GET YP's Professional Development Series
DESCRIPTION:
X-ALT-DESC;FMTTYPE=text/html:<P style="TEXT-ALIGN: center\; LINE-HEIGHT: normal\; MARGIN: 0in 0in 10pt\; mso-margin-top-alt: auto\; mso-margin-bottom-alt: auto" class=MsoNormal align=center><SPAN style="FONT-FAMILY: 'Times New Roman'\,'serif'\; COLOR: #0072bc\; FONT-SIZE: 18pt\; mso-fareast-font-family: 'Times New Roman'\; mso-no-proof: yes"></SPAN><SPAN style="FONT-FAMILY: 'Times New Roman'\,'serif'\; COLOR: #0072bc\; FONT-SIZE: 18pt\; mso-fareast-font-family: 'Times New Roman'"></SPAN></P><P style="TEXT-ALIGN: center\; LINE-HEIGHT: normal\; MARGIN: 0in 0in 10pt\; mso-margin-top-alt: auto\; mso-margin-bottom-alt: auto" class=MsoNormal align=center><P style="TEXT-ALIGN: center\; MARGIN: 0in 0in 0pt" class=MsoNoSpacing align=center></P><P style="TEXT-ALIGN: center\; MARGIN: 0in 0in 0pt" class=MsoNoSpacing align=center><SPAN style="FONT-FAMILY: 'Times New Roman'\,'serif'\; COLOR: #0072bc\; FONT-SIZE: 18pt\; mso-fareast-font-family: 'Times New Roman'\; mso-no-proof: yes"></SPAN></P><P align=center>&nbsp\;</P>
LOCATION:Skysong
UID:e.1953.1112
SEQUENCE:3
DTSTAMP:20260421T201027Z
URL:https://business.scottsdalechamber.com/events/details/get-yp-s-professional-development-series-11-12-2010-1112
END:VEVENT

END:VCALENDAR
