BEGIN:VCALENDAR
VERSION:2.0
PRODID:-//ChamberMaster//Event Calendar 2.0//EN
METHOD:PUBLISH
X-PUBLISHED-TTL:P3D
REFRESH-INTERVAL:P3D
CALSCALE:GREGORIAN
BEGIN:VEVENT
DTSTART:20180831T183000Z
DTEND:20180831T200000Z
X-MICROSOFT-CDO-ALLDAYEVENT:FALSE
SUMMARY:Meet Your Neighbors for Lunch at Granada Bar & Grill
DESCRIPTION:
X-ALT-DESC;FMTTYPE=text/html:
LOCATION:5001 N. Scottsdale Road Scottsdale\, AZ 85250 Located in Embassy Suites Scottsdale Resort Meet Your Neighbors is a montlhy networking event you can't afford to miss. Held the last Friday of each month from 11:30 am- 1:00 pm at various locations throughout Scottsdale. Open to Chamber members and non-members. Please Join Us. Meet your Scottsdale Business Neighbors! Make new business contacts! Win fantastic door prizes!
UID:e.1953.10749
SEQUENCE:3
DTSTAMP:20260426T025232Z
URL:https://business.scottsdalechamber.com/events/details/meet-your-neighbors-for-lunch-at-granada-bar-grill-10749
END:VEVENT

END:VCALENDAR
