BEGIN:VCALENDAR
VERSION:2.0
PRODID:-//ChamberMaster//Event Calendar 2.0//EN
METHOD:PUBLISH
X-PUBLISHED-TTL:P3D
REFRESH-INTERVAL:P3D
CALSCALE:GREGORIAN
BEGIN:VEVENT
DTSTART:20180727T183000Z
DTEND:20180727T200000Z
X-MICROSOFT-CDO-ALLDAYEVENT:FALSE
SUMMARY:Meet Your Neighbors for Lunch at Pomo Cucina & Pizzeria
DESCRIPTION:
X-ALT-DESC;FMTTYPE=text/html:
LOCATION:8977 N Scottsdale Rd. Scottsdale\, AZ 85253 Meet Your Neighbors is a monthly event designed for Chamber members and non-members to network over lunch. These monthly lunches are held throughout the Scottsdale area. These networking lunches are held the last Friday of the month from 11:30 AM - 1:00 PM. Meet your Scottsdale Business Neighbors! Make new business contacts! Win fantastic door prizes!
UID:e.1953.10748
SEQUENCE:3
DTSTAMP:20260426T042320Z
URL:https://business.scottsdalechamber.com/events/details/meet-your-neighbors-for-lunch-at-pomo-cucina-pizzeria-10748
END:VEVENT

END:VCALENDAR
