BEGIN:VCALENDAR
VERSION:2.0
PRODID:-//ChamberMaster//Event Calendar 2.0//EN
METHOD:PUBLISH
X-PUBLISHED-TTL:P3D
REFRESH-INTERVAL:P3D
CALSCALE:GREGORIAN
BEGIN:VEVENT
DTSTART:20090903T070000Z
DTEND:20090903T070000Z
X-MICROSOFT-CDO-ALLDAYEVENT:FALSE
SUMMARY:Partner Council Luncheon
DESCRIPTION:Partner Council Luncheon
X-ALT-DESC;FMTTYPE=text/html:Partner Council Luncheon
LOCATION:Hotel Valley Ho
UID:e.1953.2420
SEQUENCE:3
DTSTAMP:20260422T201427Z
URL:https://business.scottsdalechamber.com/events/details/partner-council-luncheon-09-03-2009-2420
END:VEVENT

END:VCALENDAR
