BEGIN:VCALENDAR
VERSION:2.0
PRODID:-//ChamberMaster//Event Calendar 2.0//EN
METHOD:PUBLISH
X-PUBLISHED-TTL:P3D
REFRESH-INTERVAL:P3D
CALSCALE:GREGORIAN
BEGIN:VEVENT
DTSTART:20160721T183000Z
DTEND:20160721T200000Z
X-MICROSOFT-CDO-ALLDAYEVENT:FALSE
SUMMARY:Phoenix Business Journal Book of Lists 101 - How to Make it Work for You!
DESCRIPTION:The 2016 Book of Lists is out! Have you ever wondered how to best utilize the Book of Lists as a major sales tool\, how businesses get listed & what it can do to help grow your business? Join us to better understand the Valley's premiere reference tool.\n\n\n\nRegister here
X-ALT-DESC;FMTTYPE=text/html:<div style="text-align: center\;"><br />\nThe 2016 Book of Lists is out! Have you ever wondered how to best utilize the Book of Lists as a major sales tool\, how businesses get listed &amp\; what it can do to help grow your business? Join us to better understand the Valley&rsquo\;s premiere reference tool.<br />\n<br />\n<a href="http://www.bizjournals.com/phoenix/event/152182" target="_blank">Register here</a></div>\n
LOCATION:Scottsdale Area Chamber of Commerce Boardroom 7501 East McCormick Parkway\, Suite 202-N Scottsdale\, AZ 85258
UID:e.1953.7489
SEQUENCE:3
DTSTAMP:20260425T205701Z
URL:https://business.scottsdalechamber.com/events/details/phoenix-business-journal-book-of-lists-101-how-to-make-it-work-for-you-07-21-2016-7489
END:VEVENT

END:VCALENDAR
