BEGIN:VCALENDAR
VERSION:2.0
PRODID:-//ChamberMaster//Event Calendar 2.0//EN
METHOD:PUBLISH
X-PUBLISHED-TTL:P3D
REFRESH-INTERVAL:P3D
CALSCALE:GREGORIAN
BEGIN:VEVENT
DTSTART:20180803T000000Z
DTEND:20180803T020000Z
X-MICROSOFT-CDO-ALLDAYEVENT:FALSE
SUMMARY:PM Connect at Holiday Inn and Suites Scottsdale North- Airpark
DESCRIPTION:
X-ALT-DESC;FMTTYPE=text/html:
LOCATION:14255 N 87th St\, Scottsdale\, AZ 85260 Join the Scottsdale Area Chamber of Commerce for a fun night of networking at this popular after-work network. Light bites and refreshments will be served\, please plan on eating dinner before or after the event. If you prefer a happy hour special over a cup of coffee\, join us for our monthly PM Connect networking mixers. PM Connect is one of Scottsdale's premier networking opportunities\, offering Scottsdale business professionals the chance to connect in a relaxed\, social setting. This is a relationship-building experience that benefits businesses through added contacts and resources. You won't want to miss this valuable opportunity! Don't forget to bring plenty of business cards! Increase Your Visibility Through Sponsorship! We can tailor an exposure package that fits both your needs and your budget! Contact Cheri Valentino at cvalentino@scottsdalechamber.com or call 480.355.2708.
UID:e.1953.10738
SEQUENCE:3
DTSTAMP:20260426T025329Z
URL:https://business.scottsdalechamber.com/events/details/pm-connect-at-holiday-inn-and-suites-scottsdale-north-airpark-10738
END:VEVENT

END:VCALENDAR
