BEGIN:VCALENDAR
VERSION:2.0
PRODID:-//ChamberMaster//Event Calendar 2.0//EN
METHOD:PUBLISH
X-PUBLISHED-TTL:P3D
REFRESH-INTERVAL:P3D
CALSCALE:GREGORIAN
BEGIN:VEVENT
DTSTART:20190319T183000Z
DTEND:20190319T200000Z
X-MICROSOFT-CDO-ALLDAYEVENT:FALSE
SUMMARY:Red Ribbon Networking at Classic Cooking Academy
DESCRIPTION:Join us for a Red Ribbon Networking event at Classic Cooking Academy!
X-ALT-DESC;FMTTYPE=text/html:<p font-size:="" helvetica="" letter-spacing:="" neue="" style="margin: 0px\; padding: 0px\; color: rgb(111\, 114\, 135)\; font-family: "><span style="font-weight: 700\; padding-top: 0px\;">Join us for a Red Ribbon Networking event at Classic Cooking Academy!</span></p>\n
LOCATION:Classic Cooking Academy 10411 E. McDowell Mountain Ranch Rd. Scottsdale\, AZ 85255
UID:e.1953.10858
SEQUENCE:3
DTSTAMP:20260425T120604Z
URL:https://business.scottsdalechamber.com/events/details/red-ribbon-networking-at-classic-cooking-academy-10858
END:VEVENT

END:VCALENDAR
