BEGIN:VCALENDAR
VERSION:2.0
PRODID:-//ChamberMaster//Event Calendar 2.0//EN
METHOD:PUBLISH
X-PUBLISHED-TTL:P3D
REFRESH-INTERVAL:P3D
CALSCALE:GREGORIAN
BEGIN:VEVENT
DTSTART:20150904T000000Z
DTEND:20150904T033000Z
X-MICROSOFT-CDO-ALLDAYEVENT:FALSE
SUMMARY:Red Ribbon Networking at LunchBox Waxing Salon
DESCRIPTION:Red Ribbon Networking at the LunchBox Waxing Salon!\n\n\n\nLunchBOX is a full-service\, speed-wax salon. The quick gist: People walk into LunchBOX with hair they don't want. Just a handful of minutes later\, they leave without it\, and they stay that way for weeks at a time. We cater to women and men who are mindful about the people they choose for personal care. We wax bottoms and brows\, cheeks and chests   a little (like ear fuzz) or a lot (from tip to toes).\n\n \n\nMake time Thursday\, September 3rd at 6:00 pm for the Ribbon Cutting and toast with LunchBOX (A WAXING SALON) franchise owners Scott Salk\, Sharon Buell\, and Lisa D'Onofrio as well as the lovely LunchBOX waxologists. Wear a splash of pink\, get your photo taken on the pink carpet\, enjoy a glass of wine and get your fill of appetizers raffles\, and giveaways. No one goes away empty handed. Happy hour's on us! 23271 N. Scottsdale Road.
X-ALT-DESC;FMTTYPE=text/html:<span style="font-family:arial\;">Red Ribbon Networking at the LunchBox Waxing Salon!<br />\n<br />\n<span style="font-size: 13.5pt\;">LunchBOX is a full-service\, speed-wax salon. The quick gist: People walk into LunchBOX with hair they don&rsquo\;t want. Just a handful of minutes later\, they leave without it\, and they stay that way for weeks at a time. We cater to women and men who are mindful about the people they choose for personal care. We wax bottoms and brows\, cheeks and chests &ndash\; a little (like ear fuzz) or a lot (from tip to toes).</span><br />\n&nbsp\;<br />\n<span style="font-size: 12pt\;">Make time Thursday\, September 3rd at 6:00 pm for the Ribbon Cutting and toast with <u>LunchBOX (A WAXING SALON)</u></span>&nbsp\;franchise owners Scott Salk\, Sharon Buell\, and Lisa D&#39\;Onofrio as well as the lovely LunchBOX waxologists. Wear a splash of pink\, get your photo taken on the pink carpet\, enjoy a glass of wine and get your fill of appetizers raffles\, and giveaways. No one goes away empty handed. Happy hour&#39\;s on us! 23271 N. Scottsdale Road.<br />\n&nbsp\;</span><br />\n&nbsp\;
LOCATION:23271 N. Scottsdale Rd.\, Suite A110 Scottsdale\, AZ 85255
UID:e.1953.6584
SEQUENCE:3
DTSTAMP:20260425T033331Z
URL:https://business.scottsdalechamber.com/events/details/red-ribbon-networking-at-lunchbox-waxing-salon-09-03-2015-6584
END:VEVENT

END:VCALENDAR
