BEGIN:VCALENDAR
VERSION:2.0
PRODID:-//ChamberMaster//Event Calendar 2.0//EN
METHOD:PUBLISH
X-PUBLISHED-TTL:P3D
REFRESH-INTERVAL:P3D
CALSCALE:GREGORIAN
BEGIN:VEVENT
DTSTART:20190326T183000Z
DTEND:20190326T200000Z
X-MICROSOFT-CDO-ALLDAYEVENT:FALSE
SUMMARY:Red Ribbon Networking at Remedy Spa & Salon
DESCRIPTION:Please join us for a ribbon cutting ceremony at Remedy Spa & Salon!
X-ALT-DESC;FMTTYPE=text/html:<div style="text-align: center\;">Please join us for a ribbon cutting ceremony at Remedy Spa &amp\; Salon!</div>\n
LOCATION:Remedy Spa & Salon
UID:e.1953.10859
SEQUENCE:3
DTSTAMP:20260425T120800Z
URL:https://business.scottsdalechamber.com/events/details/red-ribbon-networking-at-remedy-spa-salon-10859
END:VEVENT

END:VCALENDAR
