BEGIN:VCALENDAR
VERSION:2.0
PRODID:-//ChamberMaster//Event Calendar 2.0//EN
METHOD:PUBLISH
X-PUBLISHED-TTL:P3D
REFRESH-INTERVAL:P3D
CALSCALE:GREGORIAN
BEGIN:VEVENT
DTSTART:20190117T003000Z
DTEND:20190117T020000Z
X-MICROSOFT-CDO-ALLDAYEVENT:FALSE
SUMMARY:Red Ribbon Networking at The CORE Institute
DESCRIPTION:You are cordially invited to The CORE Institute's Open House & Ribbon Cutting celebration of our\n\nnew location in Scottsdale on Wednesday\, January 16\, 2019\, from 5:30 PM to 7:00 PM. Hors\n\nd'oeuvres and light refreshments will be served.\n\nThe CORE Institute Expanded\, Opening Full-Service Clinic in Scottsdale on November 5\, 2018. This\n\nmeans access to highly skilled surgeons in Scottsdale means patients no longer have to travel for high-\n\nquality orthopedic services.\n\nThe expansion provides convenient access for patients and families to meet the growing demand for\n\northopedic services in the Northeast Valley. The 6\,500 square-foot clinic is located at 90th Street and\n\nShea Blvd and will cover all orthopedic specialties including sports medicine\, foot and ankle care\,\n\nmusculoskeletal oncology\, spine surgery\, pain management\, interventional spine\, hand and upper\n\nextremity\, and adult joint reconstruction.\n\n"We are excited about expanding our presence in the Scottsdale community\," said Steve Myerthall\, MD\,\n\nMarket President\, and Orthopedic Surgeon at The CORE Institute. "The CORE Institute first began\n\nseeing patients in 2005\, and over the years we have seen a growing demand for our services across the\n\nValley\, as well as out of state. We feel that expanding into the Scottsdale area provides a great\n\nopportunity for our physicians and therapists to offer increased access to patients seeking our orthopedic\n\ncare\, close to home or work."\n\nThe CORE Institute's new Scottsdale clinic is the tenth clinic location for the orthopedic group in Arizona\,\n\nwhere the practice also has seven physical therapy locations\, two spine centers\, and an orthopedic\n\nspecialty hospital.\n\nPhysicians caring for patients in their new Scottsdale location include: Ali Araghi\, DO\, Robert Cercek\,\n\nMD\, Tyler Collins\, MD\, Amalia DeComas\, MD\, Eric Feldman\, MD\, Melissa Galli\, DPM\, David Jackson\,\n\nMD\, A. Kurt Lundberg\, MD\, Steve Myerthall\, MD\, Tony Nguyen\, MD\, Nina Patel-Hinkle\, MD\, Frank Raia\,\n\nMD\, Ryan Scott\, DPM\, and Scott Siverhus\, MD.
X-ALT-DESC;FMTTYPE=text/html:<p font-size:="" helvetica="" letter-spacing:="" neue="" style="margin: 0px\; padding: 0px\; color: rgb(111\, 114\, 135)\; font-family: "><span style="font-weight: 700\; padding-top: 0px\;">You are cordially invited to The CORE Institute&#39\;s Open House &amp\; Ribbon Cutting celebration of our<br />\nnew location in Scottsdale on Wednesday\, January 16\, 2019\, from 5:30 PM to 7:00 PM. Hors<br />\nd&rsquo\;oeuvres and light refreshments will be served.</span></p>\n\n<p font-size:="" helvetica="" letter-spacing:="" neue="" style="margin: 0px\; padding: 10px 0px 0px\; color: rgb(111\, 114\, 135)\; font-family: ">The CORE Institute Expanded\, Opening Full-Service Clinic in Scottsdale on November 5\, 2018. This<br />\nmeans access to highly skilled surgeons in Scottsdale means patients no longer have to travel for high-<br />\nquality orthopedic services.</p>\n\n<p font-size:="" helvetica="" letter-spacing:="" neue="" style="margin: 0px\; padding: 10px 0px 0px\; color: rgb(111\, 114\, 135)\; font-family: ">The expansion provides convenient access for patients and families to meet the growing demand for<br />\northopedic services in the Northeast Valley. The 6\,500 square-foot clinic is located at 90th Street and<br />\nShea Blvd and will cover all orthopedic specialties including sports medicine\, foot and ankle care\,<br />\nmusculoskeletal oncology\, spine surgery\, pain management\, interventional spine\, hand and upper<br />\nextremity\, and adult joint reconstruction.</p>\n\n<p font-size:="" helvetica="" letter-spacing:="" neue="" style="margin: 0px\; padding: 10px 0px 0px\; color: rgb(111\, 114\, 135)\; font-family: "><em style="padding-top: 0px\;">&ldquo\;We are excited about expanding our presence in the Scottsdale community\,&rdquo\; said Steve Myerthall\, MD\,<br />\nMarket President\,</em>&nbsp\;<em>and Orthopedic Surgeon at The CORE Institute. &ldquo\;The CORE Institute first began<br />\nseeing patients in 2005\, and over the years we have seen a growing demand for our services across the<br />\nValley\, as well as out of state. We feel that expanding into the Scottsdale area provides a great<br />\nopportunity for our physicians and therapists to offer increased access to patients seeking our orthopedic<br />\ncare\, close to home or work.&rdquo\;</em></p>\n\n<p font-size:="" helvetica="" letter-spacing:="" neue="" style="margin: 0px\; padding: 10px 0px 0px\; color: rgb(111\, 114\, 135)\; font-family: ">The CORE Institute&rsquo\;s new Scottsdale clinic is the tenth clinic location for the orthopedic group in Arizona\,<br />\nwhere the practice also has seven physical therapy locations\, two spine centers\, and an orthopedic<br />\nspecialty hospital.</p>\n\n<p font-size:="" helvetica="" letter-spacing:="" neue="" style="margin: 0px\; padding: 10px 0px 0px\; color: rgb(111\, 114\, 135)\; font-family: ">Physicians caring for patients in their new Scottsdale location include:&nbsp\;<a href="https://www.thecoreinstitute.com/az-physicians/ali-araghi-do.html" rel="nofollow noopener noreferrer" style="color: var(--eds-control\,#3659e3)\; text-decoration-line: none\; cursor: pointer\; background-color: transparent\; padding-top: 0px\;" target="_blank">Ali Araghi\, DO</a>\,&nbsp\;<a href="https://www.thecoreinstitute.com/az-physicians/robert-m-cercek-md.html" rel="nofollow noopener noreferrer" style="color: var(--eds-control\,#3659e3)\; text-decoration-line: none\; cursor: pointer\; background-color: transparent\;" target="_blank">Robert Cercek\,<br />\nMD</a>\,&nbsp\;<a href="https://www.thecoreinstitute.com/az-physicians/tyler-collins-md.html" rel="nofollow noopener noreferrer" style="color: var(--eds-control\,#3659e3)\; text-decoration-line: none\; cursor: pointer\; background-color: transparent\;" target="_blank">Tyler Collins\, MD</a>\,&nbsp\;<a href="https://www.thecoreinstitute.com/az-physicians/amalia-de-comas-md.html" rel="nofollow noopener noreferrer" style="color: var(--eds-control\,#3659e3)\; text-decoration-line: none\; cursor: pointer\; background-color: transparent\;" target="_blank">Amalia DeComas\, MD</a>\,&nbsp\;<a href="https://www.thecoreinstitute.com/az-physicians/eric-feldman-md.html" rel="nofollow noopener noreferrer" style="color: var(--eds-control\,#3659e3)\; text-decoration-line: none\; cursor: pointer\; background-color: transparent\;" target="_blank">Eric Feldman\, MD</a>\,&nbsp\;<a href="https://www.thecoreinstitute.com/az-physicians/melissa-galli-dpm-mha.html" rel="nofollow noopener noreferrer" style="color: var(--eds-control\,#3659e3)\; text-decoration-line: none\; cursor: pointer\; background-color: transparent\;" target="_blank">Melissa Galli\, DPM</a>\,&nbsp\;<a href="https://www.thecoreinstitute.com/physician/item/david-m-jackson-md.html" rel="nofollow noopener noreferrer" style="color: var(--eds-control\,#3659e3)\; text-decoration-line: none\; cursor: pointer\; background-color: transparent\;" target="_blank">David Jackson\,<br />\nMD</a>\,&nbsp\;<a href="https://www.thecoreinstitute.com/physician/item/k-adam-lundberg-do.html" rel="nofollow noopener noreferrer" style="color: var(--eds-control\,#3659e3)\; text-decoration-line: none\; cursor: pointer\; background-color: transparent\;" target="_blank">A. Kurt Lundberg\, MD</a>\,&nbsp\;<a href="https://www.thecoreinstitute.com/az-physicians/steven-l-myerthall-md.html" rel="nofollow noopener noreferrer" style="color: var(--eds-control\,#3659e3)\; text-decoration-line: none\; cursor: pointer\; background-color: transparent\;" target="_blank">Steve Myerthall\, MD</a>\,&nbsp\;<a href="https://www.thecoreinstitute.com/az-physicians/tony-nguyen-md.html" rel="nofollow noopener noreferrer" style="color: var(--eds-control\,#3659e3)\; text-decoration-line: none\; cursor: pointer\; background-color: transparent\;" target="_blank">Tony Nguyen\, MD</a>\,&nbsp\;<a href="https://www.thecoreinstitute.com/physician/item/nina-patel-hinkle-do.html" rel="nofollow noopener noreferrer" style="color: var(--eds-control\,#3659e3)\; text-decoration-line: none\; cursor: pointer\; background-color: transparent\;" target="_blank">Nina Patel-Hinkle\, MD</a>\,&nbsp\;<a href="https://www.thecoreinstitute.com/az-physicians/frank-j-raia-md.html" rel="nofollow noopener noreferrer" style="color: var(--eds-control\,#3659e3)\; text-decoration-line: none\; cursor: pointer\; background-color: transparent\;" target="_blank">Frank Raia\,<br />\nMD</a>\,&nbsp\;<a href="https://www.thecoreinstitute.com/az-physicians/ryan-t-scott-dpm.html" rel="nofollow noopener noreferrer" style="color: var(--eds-control\,#3659e3)\; text-decoration-line: none\; cursor: pointer\; background-color: transparent\;" target="_blank">Ryan Scott\, DPM</a>\, and&nbsp\;<a href="https://www.thecoreinstitute.com/az-physicians/scott-w-siverhus-md-ms.html" rel="nofollow noopener noreferrer" style="color: var(--eds-control\,#3659e3)\; text-decoration-line: none\; cursor: pointer\; background-color: transparent\;" target="_blank">Scott Siverhus\, MD</a>.</p>\n
LOCATION:The CORE Institute 8952 E. Desert Cove Ave.\, Ste 113 Scottsdale\, AZ 85260
UID:e.1953.10836
SEQUENCE:3
DTSTAMP:20260425T153420Z
URL:https://business.scottsdalechamber.com/events/details/red-ribbon-networking-at-the-core-institute-10836
END:VEVENT

END:VCALENDAR
