BEGIN:VCALENDAR
VERSION:2.0
PRODID:-//ChamberMaster//Event Calendar 2.0//EN
METHOD:PUBLISH
X-PUBLISHED-TTL:P3D
REFRESH-INTERVAL:P3D
CALSCALE:GREGORIAN
BEGIN:VEVENT
DTSTART:20141027T233000Z
DTEND:20141028T003000Z
X-MICROSOFT-CDO-ALLDAYEVENT:FALSE
SUMMARY:Red Ribbon Networking Event at 5th Avenue Merchant Association
DESCRIPTION:Please join us to celebrate the re-opening of 5th Ave and its shops with a ribbon cutting being held in their honor by Mayor Jim Lane at 5:00 PM.  Come network with your Scottsdale Area business owners.
X-ALT-DESC;FMTTYPE=text/html:Please join us to celebrate the re-opening of 5th Ave and its shops with a ribbon cutting being held in their honor by Mayor Jim Lane at 5:00 PM.&nbsp\; Come network with your&nbsp\;Scottsdale Area&nbsp\;business owners.
LOCATION:Craftsman Court and 5th Ave near Cartel's and Public Citizen House
UID:e.1953.4491
SEQUENCE:3
DTSTAMP:20260424T090511Z
URL:https://business.scottsdalechamber.com/events/details/red-ribbon-networking-event-at-5th-avenue-merchant-association-10-27-2014-4491
END:VEVENT

END:VCALENDAR
