BEGIN:VCALENDAR
VERSION:2.0
PRODID:-//ChamberMaster//Event Calendar 2.0//EN
METHOD:PUBLISH
X-PUBLISHED-TTL:P3D
REFRESH-INTERVAL:P3D
CALSCALE:GREGORIAN
BEGIN:VEVENT
DTSTART:20141024T160000Z
DTEND:20141024T170000Z
X-MICROSOFT-CDO-ALLDAYEVENT:FALSE
SUMMARY:Red Ribbon Networking - Scottsdale Bedrooms
DESCRIPTION:Sleep like a baby! Join us for a Red Ribbon Networking Celebration!\n\n\nIn addition to a light breakfast and beverages\, ribbon cutting attendees will have the opportunity to try out a $40\,000 mattress\, experiencing for themselves what true luxury feels like. Mayor Jim Lane will be on hand for the official ribbon cutting ceremony at 9:00 AM.\n\n\n\nEuropean Home\, which is located on Frank Lloyd Wright near Greenway Hayden Loop\, will be re-launching itself in late October under a new name - Scottsdale Bedrooms. Family owned and operated for nearly two decades\, Scottsdale Bedrooms is Arizona's Destination for Healthy\, Luxurious Comfort.\n\nWhile mass-market bedroom showrooms may have a specific "luxury line" with a limited selection on hand\, as the exclusive Arizona distributor for Vispring and Open beds\, bedding accessories and furniture\, Scottsdale Bedrooms offers its customers a broad selection of these fine products\, with a large on-hand inventory for them to experience.
X-ALT-DESC;FMTTYPE=text/html:<div style="text-align: center">&nbsp\;</div>\n\n<div style="text-align: center"><strong>Sleep like a baby! Join us for a Red Ribbon Networking Celebration</strong>!</div>\n<br />\nIn addition to a light breakfast and beverages\, ribbon cutting attendees will have the opportunity to try out a $40\,000 mattress\, experiencing for themselves what true luxury feels like. Mayor Jim Lane will be on hand for the official ribbon cutting ceremony at 9:00 AM.<br />\n<br />\nEuropean Home\, which is located on Frank Lloyd Wright near Greenway Hayden Loop\, will be re-launching itself in late October under a new name - Scottsdale Bedrooms. Family owned and operated for nearly two decades\, Scottsdale Bedrooms is Arizona&rsquo\;s Destination for Healthy\, Luxurious Comfort.<br />\nWhile mass-market bedroom showrooms may have a specific &ldquo\;luxury line&rdquo\; with a limited selection on hand\, as the exclusive Arizona distributor for Vispring and Open beds\, bedding accessories and furniture\, Scottsdale Bedrooms offers its customers a broad selection of these fine products\, with a large on-hand inventory for them to experience.
LOCATION:Scottsdale Bedrooms\, formerly European Home 8180 E Frank Lloyd Wright Blvd. Scottsdale\, AZ 85260
UID:e.1953.4269
SEQUENCE:3
DTSTAMP:20260424T090401Z
URL:https://business.scottsdalechamber.com/events/details/red-ribbon-networking-scottsdale-bedrooms-10-24-2014-4269
END:VEVENT

END:VCALENDAR
