BEGIN:VCALENDAR
VERSION:2.0
PRODID:-//ChamberMaster//Event Calendar 2.0//EN
METHOD:PUBLISH
X-PUBLISHED-TTL:P3D
REFRESH-INTERVAL:P3D
CALSCALE:GREGORIAN
BEGIN:VEVENT
DTSTART:20140610T173000Z
DTEND:20140610T190000Z
X-MICROSOFT-CDO-ALLDAYEVENT:FALSE
SUMMARY:Red Ribbon Networking - TopGolf at Riverwalk
DESCRIPTION:Tee Up Some Fun at TopGolf! Join us for a Red Ribbon Networking Celebration!\n\n\n\nPlease join us at a ribbon cutting for our newest member of the Scottsdale Area Chamber of Commerce and enjoy the fun experience that this golf entertainment venue has to offer. TopGolf will be another great addition to the Talking Stick Cultural Entertainment Destination.\n\n\n\nA complimentary breakfast will be served following the ribbon cutting ceremony.
X-ALT-DESC;FMTTYPE=text/html:<br />\n<strong>Tee Up Some Fun at TopGolf! Join us for a Red Ribbon Networking Celebration!</strong><br />\n<br />\nPlease join us at a ribbon cutting for our newest member of the Scottsdale Area Chamber of Commerce and enjoy the fun experience that this golf entertainment venue has to offer. TopGolf will be another great addition to the Talking Stick Cultural Entertainment Destination.<br />\n<br />\nA complimentary breakfast will be served following the ribbon cutting ceremony.<br />\n&nbsp\;
LOCATION:9500 E. Indian Bend Road Scottsdale\, AZ 85256
UID:e.1953.3985
SEQUENCE:3
DTSTAMP:20260420T084516Z
URL:https://business.scottsdalechamber.com/events/details/red-ribbon-networking-topgolf-at-riverwalk-06-10-2014-3985
END:VEVENT

END:VCALENDAR
