BEGIN:VCALENDAR
VERSION:2.0
PRODID:-//ChamberMaster//Event Calendar 2.0//EN
METHOD:PUBLISH
X-PUBLISHED-TTL:P3D
REFRESH-INTERVAL:P3D
CALSCALE:GREGORIAN
BEGIN:VEVENT
DTSTART:20110622T230000Z
DTEND:20110623T010000Z
X-MICROSOFT-CDO-ALLDAYEVENT:FALSE
SUMMARY:Ribbon Cutting
DESCRIPTION:4:00 PM - 6:00 PM   Open House\n5:00 PM - Ribbon Cutting\n\nCome out and meet Dr. Ptak and his team as they showcase their state-of-the-art office as featured in New Beauty\, The World’s Most Unique Beauty Magazine. After experiencing this event\, you will understand why Dr. Ptak’s team of professionals believe that plastic surgery and age management skin care are a true blend of art and science\, with the power to renew and rejuvenate!\n\nScrumptious refreshments and lucrative door prizes will be available\, including facials\, laser treatments\, massages\, Lattisse\, and Jane Iredale gift baskets valued at $100-$200. Good luck to each of you to win one of these impressive gifts!
X-ALT-DESC;FMTTYPE=text/html:4:00 PM - 6:00 PM   Open House\n5:00 PM - Ribbon Cutting\n\nCome out and meet Dr. Ptak and his team as they showcase their state-of-the-art office as featured in New Beauty\, The World’s Most Unique Beauty Magazine. After experiencing this event\, you will understand why Dr. Ptak’s team of professionals believe that plastic surgery and age management skin care are a true blend of art and science\, with the power to renew and rejuvenate!\n\nScrumptious refreshments and lucrative door prizes will be available\, including facials\, laser treatments\, massages\, Lattisse\, and Jane Iredale gift baskets valued at $100-$200. Good luck to each of you to win one of these impressive gifts! \n\n
LOCATION:Dr. Jeff Ptak Aesthetic Services
UID:e.1953.37
SEQUENCE:3
DTSTAMP:20260421T083827Z
URL:https://business.scottsdalechamber.com/events/details/ribbon-cutting-06-22-2011-37
END:VEVENT

END:VCALENDAR
