BEGIN:VCALENDAR
VERSION:2.0
PRODID:-//ChamberMaster//Event Calendar 2.0//EN
METHOD:PUBLISH
X-PUBLISHED-TTL:P3D
REFRESH-INTERVAL:P3D
CALSCALE:GREGORIAN
BEGIN:VEVENT
DTSTART:20120131T070000Z
DTEND:20120131T070000Z
X-MICROSOFT-CDO-ALLDAYEVENT:FALSE
SUMMARY:Ribbon Cutting - Golf Anything Store
DESCRIPTION:Ribbon Cutting - Golf Anything Store
X-ALT-DESC;FMTTYPE=text/html:Ribbon Cutting - Golf Anything Store
LOCATION:Golf Anything
UID:e.1953.2488
SEQUENCE:3
DTSTAMP:20260421T102503Z
URL:https://business.scottsdalechamber.com/events/details/ribbon-cutting-golf-anything-store-01-31-2012-2488
END:VEVENT

END:VCALENDAR
