BEGIN:VCALENDAR
VERSION:2.0
PRODID:-//ChamberMaster//Event Calendar 2.0//EN
METHOD:PUBLISH
X-PUBLISHED-TTL:P3D
REFRESH-INTERVAL:P3D
CALSCALE:GREGORIAN
BEGIN:VEVENT
DTSTART:20100320T070000Z
DTEND:20100320T070000Z
X-MICROSOFT-CDO-ALLDAYEVENT:FALSE
SUMMARY:Run Around the Runway
DESCRIPTION:Run Around the Runway
X-ALT-DESC;FMTTYPE=text/html:Run Around the Runway
LOCATION:Scottsdale Airport
UID:e.1953.2575
SEQUENCE:3
DTSTAMP:20260422T101923Z
URL:https://business.scottsdalechamber.com/events/details/run-around-the-runway-03-20-2010-2575
END:VEVENT

END:VCALENDAR
