BEGIN:VCALENDAR
VERSION:2.0
PRODID:-//ChamberMaster//Event Calendar 2.0//EN
METHOD:PUBLISH
X-PUBLISHED-TTL:P3D
REFRESH-INTERVAL:P3D
CALSCALE:GREGORIAN
BEGIN:VEVENT
DTSTART:20091104T070000Z
DTEND:20091104T070000Z
X-MICROSOFT-CDO-ALLDAYEVENT:FALSE
SUMMARY:Sterling Awards VIP Reception
DESCRIPTION:Sterling Awards VIP Reception
X-ALT-DESC;FMTTYPE=text/html:Sterling Awards VIP Reception
LOCATION:Mondrian---Midnight Room
UID:e.1953.2667
SEQUENCE:3
DTSTAMP:20260422T163656Z
URL:https://business.scottsdalechamber.com/events/details/sterling-awards-vip-reception-11-04-2009-2667
END:VEVENT

END:VCALENDAR
