BEGIN:VCALENDAR
VERSION:2.0
PRODID:-//ChamberMaster//Event Calendar 2.0//EN
METHOD:PUBLISH
X-PUBLISHED-TTL:P3D
REFRESH-INTERVAL:P3D
CALSCALE:GREGORIAN
BEGIN:VEVENT
DTSTART:20111110T070000Z
DTEND:20111110T070000Z
X-MICROSOFT-CDO-ALLDAYEVENT:FALSE
SUMMARY:Sterling Awards VIP Reception
DESCRIPTION:Sterling Awards VIP Reception
X-ALT-DESC;FMTTYPE=text/html:Sterling Awards VIP Reception
LOCATION:Hotel Valley Ho/Sands(formerly Trader Vic's)
UID:e.1953.2673
SEQUENCE:3
DTSTAMP:20260420T234808Z
URL:https://business.scottsdalechamber.com/events/details/sterling-awards-vip-reception-11-10-2011-2673
END:VEVENT

END:VCALENDAR
